BEGIN:VCALENDAR
VERSION:2.0
PRODID:-//Westport Winery | Aberdeen, WA - ECPv6.15.20//NONSGML v1.0//EN
CALSCALE:GREGORIAN
METHOD:PUBLISH
X-WR-CALNAME:Westport Winery | Aberdeen, WA
X-ORIGINAL-URL:https://westportwinery.com
X-WR-CALDESC:Events for Westport Winery | Aberdeen, WA
REFRESH-INTERVAL;VALUE=DURATION:PT1H
X-Robots-Tag:noindex
X-PUBLISHED-TTL:PT1H
BEGIN:VTIMEZONE
TZID:UTC
BEGIN:STANDARD
TZOFFSETFROM:+0000
TZOFFSETTO:+0000
TZNAME:UTC
DTSTART:20250101T000000
END:STANDARD
END:VTIMEZONE
BEGIN:VEVENT
DTSTART;TZID=UTC:20260411T110000
DTEND;TZID=UTC:20260411T140000
DTSTAMP:20260420T080608
CREATED:20260403T153858Z
LAST-MODIFIED:20260403T154022Z
UID:2366-1775905200-1775916000@westportwinery.com
SUMMARY:Tessa Bailey Collector's Edition
DESCRIPTION:Join New York Times best-selling author Tessa Bailey for the exclusive early release of the Collector’s Edition of Hook\, Line and Sinker on April 11\, 2026\, at Westport Winery Garden Resort in Washington State. This beloved sequel to It Happened One Summer continues the “Bellinger Sisters” series set in the charming fishing town of Westport. \nMain Event Highlights \nGuests can select from one of two sessions in The Speakeasy Event Center at Westport Winery Garden Resort. The tickets are $48 per person and include a pre-signed Collector’s Edition hardcover\, book talk and audience Q&A\, digital photo line\, wine for 21+\, a charcuterie buffet\, and free admission to the International Mermaid Museum. \nSession 1: 11:00 AM – 1:00 PM (Doors open at 10:30AM) \nSession 2: 2:00 PM – 4:00 PM (Doors open at 1:30PM) \nPlan Your Visit \nWestport Winery Garden Resort is located at 1 South Arbor Road\, Aberdeen\, WA\, just two hours from Seattle’s Sea-Tac Airport. The winery is ten miles from Westport\, its beautiful beaches\, and the famous Westport Marina. Nearby lodging options include Vacations By-the-Sea\, Chateau Westport\, the Marina Cottages\, Loge\, Westport Inn\, and Twin Harbors State Park. Visitors can go to www.WestportGrayland-Chamber.org for more options. \nTickets are available at www.WestportWinery.com or on the winery’s Facebook page. Please bring your receipt for entry. Westport Winery is the only authorized dealer for this event. Due to health\, safety\, and space limitations\, those without tickets will not be permitted into the event space.  All event guidelines are subject to change. Attendees can receive refunds up to 24 hours before the event start time. Should this event be canceled\, all customers will be refunded their ticket price using the original payment method. \nGET TICKETS
URL:https://westportwinery.com/event/tessa-bailey-collectors-edition/
ATTACH;FMTTYPE=image/webp:https://westportwinery.com/wp-content/uploads/2026/04/96066555-5949-411c-aa33-e87f6d585765-Thumb.webp
END:VEVENT
END:VCALENDAR